BEGIN:VCALENDAR
VERSION:2.0
PRODID:-//Kom og Dans Danmark - ECPv6.15.18//NONSGML v1.0//EN
CALSCALE:GREGORIAN
METHOD:PUBLISH
X-WR-CALNAME:Kom og Dans Danmark
X-ORIGINAL-URL:https://komogdansdanmark.dk
X-WR-CALDESC:Begivenheder for Kom og Dans Danmark
REFRESH-INTERVAL;VALUE=DURATION:PT1H
X-Robots-Tag:noindex
X-PUBLISHED-TTL:PT1H
BEGIN:VTIMEZONE
TZID:Europe/Copenhagen
BEGIN:DAYLIGHT
TZOFFSETFROM:+0100
TZOFFSETTO:+0200
TZNAME:CEST
DTSTART:20250330T010000
END:DAYLIGHT
BEGIN:STANDARD
TZOFFSETFROM:+0200
TZOFFSETTO:+0100
TZNAME:CET
DTSTART:20251026T010000
END:STANDARD
BEGIN:DAYLIGHT
TZOFFSETFROM:+0100
TZOFFSETTO:+0200
TZNAME:CEST
DTSTART:20260329T010000
END:DAYLIGHT
BEGIN:STANDARD
TZOFFSETFROM:+0200
TZOFFSETTO:+0100
TZNAME:CET
DTSTART:20261025T010000
END:STANDARD
BEGIN:DAYLIGHT
TZOFFSETFROM:+0100
TZOFFSETTO:+0200
TZNAME:CEST
DTSTART:20270328T010000
END:DAYLIGHT
BEGIN:STANDARD
TZOFFSETFROM:+0200
TZOFFSETTO:+0100
TZNAME:CET
DTSTART:20271031T010000
END:STANDARD
END:VTIMEZONE
BEGIN:VEVENT
DTSTART;TZID=Europe/Copenhagen:20260419T100000
DTEND;TZID=Europe/Copenhagen:20260419T123000
DTSTAMP:20260419T200519
CREATED:20260111T142900Z
LAST-MODIFIED:20260413T033049Z
UID:10035232-1776592800-1776601800@komogdansdanmark.dk
SUMMARY:gåtur
DESCRIPTION:Vi går en tur på 5 km. \nGåtur d 19/4 er mødested på p-pladsen v/ speedwaybanen i Fladbro kl. 10 \nAlle dage mødes vi kl. 10. \nMødested: Randers Regnskov. \nPå dagen ser vi om der er mulighed for en gåtur langs åen\, ellers finder vi en anden tur.
URL:https://komogdansdanmark.dk/kalender/randers-gaatur/2026-04-19/
CATEGORIES:Kursus for dansere
ATTACH;FMTTYPE=image/jpeg:https://komogdansdanmark.dk/wp-content/uploads/2021/10/KOD-DANSEPAR-05-LILLA-16-8-scaled.jpg
END:VEVENT
END:VCALENDAR