BEGIN:VCALENDAR
VERSION:2.0
PRODID:-//Kom og Dans Danmark - ECPv6.15.18//NONSGML v1.0//EN
CALSCALE:GREGORIAN
METHOD:PUBLISH
X-WR-CALNAME:Kom og Dans Danmark
X-ORIGINAL-URL:https://komogdansdanmark.dk
X-WR-CALDESC:Begivenheder for Kom og Dans Danmark
REFRESH-INTERVAL;VALUE=DURATION:PT1H
X-Robots-Tag:noindex
X-PUBLISHED-TTL:PT1H
BEGIN:VTIMEZONE
TZID:Europe/Copenhagen
BEGIN:DAYLIGHT
TZOFFSETFROM:+0100
TZOFFSETTO:+0200
TZNAME:CEST
DTSTART:20250330T010000
END:DAYLIGHT
BEGIN:STANDARD
TZOFFSETFROM:+0200
TZOFFSETTO:+0100
TZNAME:CET
DTSTART:20251026T010000
END:STANDARD
BEGIN:DAYLIGHT
TZOFFSETFROM:+0100
TZOFFSETTO:+0200
TZNAME:CEST
DTSTART:20260329T010000
END:DAYLIGHT
BEGIN:STANDARD
TZOFFSETFROM:+0200
TZOFFSETTO:+0100
TZNAME:CET
DTSTART:20261025T010000
END:STANDARD
BEGIN:DAYLIGHT
TZOFFSETFROM:+0100
TZOFFSETTO:+0200
TZNAME:CEST
DTSTART:20270328T010000
END:DAYLIGHT
BEGIN:STANDARD
TZOFFSETFROM:+0200
TZOFFSETTO:+0100
TZNAME:CET
DTSTART:20271031T010000
END:STANDARD
END:VTIMEZONE
BEGIN:VEVENT
DTSTART;TZID=Europe/Copenhagen:20260420T080000
DTEND;TZID=Europe/Copenhagen:20260420T170000
DTSTAMP:20260420T121804
CREATED:20240109T072244Z
LAST-MODIFIED:20260208T150959Z
UID:10024232-1776672000-1776704400@komogdansdanmark.dk
SUMMARY:10. undervisningsaften
DESCRIPTION:10. undervisningsaften:\nBegynder og videregående 18.30 – 19.45\nFortsætter 20.15 – 21.30
URL:https://komogdansdanmark.dk/kalender/thisted-10-undervisningsaften/
LOCATION:Sjørring Skole\, Ebbesvej 3\, Thisted\, 7700\, Danmark
CATEGORIES:Undervisning
ATTACH;FMTTYPE=image/jpeg:https://komogdansdanmark.dk/wp-content/uploads/2021/10/KOD-DANSEPAR-05-LILLA-16-8-scaled.jpg
GEO:56.9529832;8.5940201
X-APPLE-STRUCTURED-LOCATION;VALUE=URI;X-ADDRESS=Sjørring Skole Ebbesvej 3 Thisted 7700 Danmark;X-APPLE-RADIUS=500;X-TITLE=Ebbesvej 3:geo:8.5940201,56.9529832
END:VEVENT
BEGIN:VEVENT
DTSTART;TZID=Europe/Copenhagen:20260420T181500
DTEND;TZID=Europe/Copenhagen:20260420T214500
DTSTAMP:20260420T121804
CREATED:20251215T202547Z
LAST-MODIFIED:20260114T171840Z
UID:10035239-1776708900-1776721500@komogdansdanmark.dk
SUMMARY:Ugentlig undervisning
DESCRIPTION:Kom og vær med til en fest! \nBegynder: 18:30 – 19:45\nÅbent for alle! \nFortsætter 20:15 – 21:30\nFor alle der har gennemført begynder niveau! \nVideregående – Turbo: 18:15 – 19:45\nFor alle der har gennemført 2 sæsoner fortsætter niveau! \nTema: 20:15 – 21:30\nFor alle der har gennemført 2 sæsoner videregående – turbo eller 4 sæsoner på alm. videregående hold \nMads og Tove vil undervise i Tango.
URL:https://komogdansdanmark.dk/kalender/aarhus_ungdom-ugentlig-undervisning-2/2026-04-20/
LOCATION:Skovvangsskolen\, Skovvangsvej 150\, Aarhus\, 8200\, Danmark
CATEGORIES:Undervisning
ATTACH;FMTTYPE=image/jpeg:https://komogdansdanmark.dk/wp-content/uploads/2021/10/KOD-DANSEPAR-08-GROeN-16-9-scaled.jpg
ORGANIZER;CN="Kom og Dans - Aarhus Ungdom":MAILTO:kodaarhusungdom@gmail.com
GEO:56.1756078;10.2088462
X-APPLE-STRUCTURED-LOCATION;VALUE=URI;X-ADDRESS=Skovvangsskolen Skovvangsvej 150 Aarhus 8200 Danmark;X-APPLE-RADIUS=500;X-TITLE=Skovvangsvej 150:geo:10.2088462,56.1756078
END:VEVENT
BEGIN:VEVENT
DTSTART;TZID=Europe/Copenhagen:20260420T183000
DTEND;TZID=Europe/Copenhagen:20260420T193000
DTSTAMP:20260420T121804
CREATED:20251202T172507Z
LAST-MODIFIED:20260309T213653Z
UID:10034038-1776709800-1776713400@komogdansdanmark.dk
SUMMARY:Begynder Mandage
DESCRIPTION:Begynder Mandag er for helt nye danser. \nVi starter kl 18:30 og danser 1 time. Derefter er der fælles dans indtil kl 20:00 \nVi danser i 12 lektioner\, hvor der er fokus på dans\, god motion og hygge. \nVi danser i Midtbyhallen\, Johannes Jørgensens Vej 10\, 5700 Svendborg \nDer er ikke krav om danse partner. \nVi danser i flade sko. \nUnderviserer: Ulrik og Flemming \nFERIE I UGE 7 – Mandag d. 9. februar og Påskeferie i uge 14 og 15\, det er d. 30. Marts og d. 6. April \nUndervisning 23. marts er aflyst pga valget – vi danser d. 4. maj i stedet for. \nPris kr 650 pr person
URL:https://komogdansdanmark.dk/kalender/svendborg-begynder-mandage-5/2026-04-20/
CATEGORIES:Undervisning
ATTACH;FMTTYPE=image/jpeg:https://komogdansdanmark.dk/wp-content/uploads/2021/10/KOD-DANSEPAR-24-BEIGE_2-16-9-scaled.jpg
END:VEVENT
BEGIN:VEVENT
DTSTART;TZID=Europe/Copenhagen:20260420T183000
DTEND;TZID=Europe/Copenhagen:20260420T193000
DTSTAMP:20260420T121804
CREATED:20251203T204056Z
LAST-MODIFIED:20260309T213754Z
UID:10034171-1776709800-1776713400@komogdansdanmark.dk
SUMMARY:FORTSÆTTER MANDAGE
DESCRIPTION:Vi danser i Midtbyhallen\, Johannes Jørgensens Vej 10\, 5700 Svendborg. \nMandage kl 18:30 til kl 19:30. Derefter er der fri dans efter undervisning i 30 minutter. \nHoldet er for dig\, som har gennemført begynderholdet og gerne vil lære mere. \nVi danser i 12 lektioner\, hvor der er fokus på dans\, god motion og hygge. \nDer er ikke krav om danse partner. \nVi danser i flade sko. \nUnderviserer: Inge-Lise og Bent \nFERIE I UGE 7\, 14 og 15. Det er Mandage d. 9. Februar\, 30. Marts og 6. April \nUndervisning 23. marts er aflyst pga valget – vi danser d. 4. maj i stedet for. \nPris kr 650 pr person
URL:https://komogdansdanmark.dk/kalender/svendborg-fortsaetter-mandage-4/2026-04-20/
CATEGORIES:Undervisning
ATTACH;FMTTYPE=image/jpeg:https://komogdansdanmark.dk/wp-content/uploads/2021/10/KOD-DANSEPAR-24-BEIGE_2-16-9-scaled.jpg
END:VEVENT
BEGIN:VEVENT
DTSTART;TZID=Europe/Copenhagen:20260420T183000
DTEND;TZID=Europe/Copenhagen:20260420T201500
DTSTAMP:20260420T121804
CREATED:20241216T191838Z
LAST-MODIFIED:20260104T193635Z
UID:10035147-1776709800-1776716100@komogdansdanmark.dk
SUMMARY:Begynder undervisning
DESCRIPTION:Dette hold er for dig\, som er ny til dansen\, eller som ønsker at få genopfrisket grundelementerne i dansen. Du vil blive introduceret til de basale teknikker i Bygdeswing\, Rockerswing\, Danseswing og Rock ‘n’ Roll\, som du skal gøre brug af videre frem. \nHusk: \n\nMedbring en vandflaske\nFlade\, glatte sko\nTøj\, der er behageligt og som du kan bevæge dig i\nOBS! Nogle tåler ikke parfume. Det er derfor bedst\, hvis du lader parfumen stå urørt\, inden du tager til dans 🙂\n\nUndervisning foregår på Ejerslykkeskolen\, med Søren/Birgitte der underviser de første 6 gange og Laila de sidste 6 gange. \nTilmeldingen dækker en sæson på 12 undervisningsgange i perioden: 26. januar til 4. maj.\nDa vi danser på lokale skoler følger vi skolernes ferie\, og i disse perioder vil der ikke være normal undervisning. \nKl. 18:30 – 19:45 Begynder og videregående undervisning i hver deres lokale \nKl. 19:45 – 20:15 Fri dans for alle \nKl. 20.15 – 21.30 Fortsætter undervisning \nTryk herunder for at komme videre mod tilmelding 🙂 \nOdense: Odense: Begynder – Forår 2026
URL:https://komogdansdanmark.dk/kalender/odense-begynder-undervisning-3/2026-04-20/
LOCATION:Ejerslykkeskolen\, Rødegårdsvej 164\, Odense\, 5230\, Danmark
CATEGORIES:Undervisning
ATTACH;FMTTYPE=image/jpeg:https://komogdansdanmark.dk/wp-content/uploads/2018/03/dansestile-rocknroll-e1679499729722.jpg
GEO:55.386406;10.4171836
X-APPLE-STRUCTURED-LOCATION;VALUE=URI;X-ADDRESS=Ejerslykkeskolen Rødegårdsvej 164 Odense 5230 Danmark;X-APPLE-RADIUS=500;X-TITLE=Rødegårdsvej 164:geo:10.4171836,55.386406
END:VEVENT
BEGIN:VEVENT
DTSTART;TZID=Europe/Copenhagen:20260420T183000
DTEND;TZID=Europe/Copenhagen:20260420T201500
DTSTAMP:20260420T121804
CREATED:20260104T201849Z
LAST-MODIFIED:20260107T140248Z
UID:10035187-1776709800-1776716100@komogdansdanmark.dk
SUMMARY:Videregående undervisning
DESCRIPTION:På videregående vil der være mere fokus på teknikken\, og ikke nødvendigvis så mange flere nye ture. Men sværhedsgraden øges\, det kunne f.eks. være ved brug af USO\, lange/korte bølger\, slip-ned\, rockabilly og faldteknikker –  hvad der præcis lægges vægt på/undervises i vil være op til de enkelte undervisere.  \nVideregående kan man deltage på i mange sæsoner\, da man kan blive ved med at udvikle sin teknik. Teknikken danner grundlag for alle tema-dansene.  \nTilmeldingen dækker en sæson på 12 undervisningsgange i perioden: 26. januar til 4. maj.\nUndervisningen foregår på Ejerslykkeskolen\, med Gitte Kiilerich der underviser de første 6 gange i Rockeswing og Gert/Gitte Flensborg de sidste 6 gange i Danseswing. \nKl. 18:30 – 19:45 Begynder og videregående undervisning i hver deres lokale\nKl. 19:45 – 20:15 Fri dans for alle\nKl. 20.15 – 21.30 Fortsætter undervisning \nOBS! Nogle tåler ikke parfume. Det er derfor bedst\, hvis du lader parfumen stå urørt\, inden du tager til dans 🙂 \nDa vi danser på lokale skoler følger vi skolernes ferie\, og i disse perioder vil der ikke være normal undervisning. \nKlik herunder for at komme videre mod tilmelding 🙂 \nOdense: Odense: Videregående – Forår 2026 \n \n 
URL:https://komogdansdanmark.dk/kalender/odense-videregaaende-undervisning-2/2026-04-20/
LOCATION:Ejerslykkeskolen\, Rødegårdsvej 164\, Odense\, 5230\, Danmark
CATEGORIES:Undervisning
ATTACH;FMTTYPE=image/jpeg:https://komogdansdanmark.dk/wp-content/uploads/2021/10/KOD-DANSEPAR-05-LILLA-16-8-scaled.jpg
GEO:55.386406;10.4171836
X-APPLE-STRUCTURED-LOCATION;VALUE=URI;X-ADDRESS=Ejerslykkeskolen Rødegårdsvej 164 Odense 5230 Danmark;X-APPLE-RADIUS=500;X-TITLE=Rødegårdsvej 164:geo:10.4171836,55.386406
END:VEVENT
BEGIN:VEVENT
DTSTART;TZID=Europe/Copenhagen:20260420T184500
DTEND;TZID=Europe/Copenhagen:20260420T214500
DTSTAMP:20260420T121804
CREATED:20251127T162051Z
LAST-MODIFIED:20251127T162052Z
UID:10033770-1776710700-1776721500@komogdansdanmark.dk
SUMMARY:Undervisning - forår 2026
DESCRIPTION:Kl. 18.45 – 20.00 Undervisning \nKl. 20.00 – 20.30 Minidans – alle kursister er velkomne \nKl. 20.30 – 21.45 Undervisning
URL:https://komogdansdanmark.dk/kalender/viborg-undervisning-foraar-2026/2026-04-20/
LOCATION:Aktivitetshuset Afd. 10\, Rughavevej 2\, Viborg\, 8800\, Danmark
CATEGORIES:Undervisning
ATTACH;FMTTYPE=image/jpeg:https://komogdansdanmark.dk/wp-content/uploads/2021/10/KOD-DANSEPAR-05-LILLA-16-8-scaled.jpg
GEO:56.4612722;9.3940348
X-APPLE-STRUCTURED-LOCATION;VALUE=URI;X-ADDRESS=Aktivitetshuset Afd. 10 Rughavevej 2 Viborg 8800 Danmark;X-APPLE-RADIUS=500;X-TITLE=Rughavevej 2:geo:9.3940348,56.4612722
END:VEVENT
BEGIN:VEVENT
DTSTART;TZID=Europe/Copenhagen:20260420T184500
DTEND;TZID=Europe/Copenhagen:20260420T214500
DTSTAMP:20260420T121804
CREATED:20251216T092306Z
LAST-MODIFIED:20260316T214321Z
UID:10034513-1776710700-1776721500@komogdansdanmark.dk
SUMMARY:Undervisning forår 2026
DESCRIPTION:Begynder\, fortsætter og tema hold danser kl. 18:45-20:00 \nFælles Dans og social kaffe hygge kl. 20:00-20:30 \nVideregående danser fra kl. 20:30-21:45 \nTema : Bugg
URL:https://komogdansdanmark.dk/kalender/saeby-undervisning-foraar-2026/2026-04-20/
LOCATION:Sæbygård Skole\, Sæbygårdvej 34\, Sæby\, 9300\, Danmark
CATEGORIES:Undervisning
ATTACH;FMTTYPE=image/jpeg:https://komogdansdanmark.dk/wp-content/uploads/2021/10/KOD-DANSEPAR-05-LILLA-16-8-scaled.jpg
GEO:57.335183;10.499796
X-APPLE-STRUCTURED-LOCATION;VALUE=URI;X-ADDRESS=Sæbygård Skole Sæbygårdvej 34 Sæby 9300 Danmark;X-APPLE-RADIUS=500;X-TITLE=Sæbygårdvej 34:geo:10.499796,57.335183
END:VEVENT
BEGIN:VEVENT
DTSTART;TZID=Europe/Copenhagen:20260420T190000
DTEND;TZID=Europe/Copenhagen:20260420T201000
DTSTAMP:20260420T121804
CREATED:20251202T160127Z
LAST-MODIFIED:20251202T201824Z
UID:10034131-1776711600-1776715800@komogdansdanmark.dk
SUMMARY:Videregående  F2026
DESCRIPTION:Det er vigtigt\, at du har danset på Fortsætterholdet i minimum 2 sæsoner inden du tilmelder dig Videregående. Undervisningen på Videregående bygger nemlig videre på det\, du lærer som Fortsætter. \nUd over at bygge videre på swingformerne fra Fortsætterkurset\, lærer vi også nye teknikker. Underviserne har et stort katalog af ture og teknikker at plukke fra\, så undervisningen kan varieres. \nEn dansesæson er 12 undervisningsgange af 1 time og 10 minutter. \nSwing er en pardans\, men du er også velkommen alene. Vi skifter partner i løbet af undervisningen\, hvilket gør\, at vi godt kan have lidt flere af det ene køn.
URL:https://komogdansdanmark.dk/kalender/randers-videregaaende-f2026/2026-04-20/
LOCATION:Østervangsskolen\, Dronningborg Boulevard 33\, Randers\, 8930\, Danmark
CATEGORIES:Undervisning
ATTACH;FMTTYPE=image/jpeg:https://komogdansdanmark.dk/wp-content/uploads/2021/10/KOD-DANSEPAR-05-LILLA-16-8-scaled.jpg
GEO:56.473695;10.0506
X-APPLE-STRUCTURED-LOCATION;VALUE=URI;X-ADDRESS=Østervangsskolen Dronningborg Boulevard 33 Randers 8930 Danmark;X-APPLE-RADIUS=500;X-TITLE=Dronningborg Boulevard 33:geo:10.0506,56.473695
END:VEVENT
BEGIN:VEVENT
DTSTART;TZID=Europe/Copenhagen:20260420T190000
DTEND;TZID=Europe/Copenhagen:20260420T201000
DTSTAMP:20260420T121804
CREATED:20251202T160411Z
LAST-MODIFIED:20251202T193720Z
UID:10034120-1776711600-1776715800@komogdansdanmark.dk
SUMMARY:Grundkursus F2026
DESCRIPTION:Swing og Rockn´roll er en dans\, der er meget let at lære\, og som kan danses til næsten al musik – men først og fremmest til livlige rytmer. På grundkurset lærer du de grundlæggende teknikker\, som gør dig klar til at deltage i danseaftener i både Randers og andre lokalforeninger. \nEn dansesæson er 12 undervisningsgange af 1 time og 10 minutter.\n.\nI løbet af 12 undervisningsgange introduceres du til fire forskellige danseformer:\n\n\ndanseswing\nbygdeswing\nrockeswing\nrock’n roll\n\nSwing er en pardans\, men du er også velkommen alene. Vi skifter partner i løbet af undervisningen\, hvilket gør\, at vi godt kan have lidt flere af det ene køn. Skift af partner gør\, at du bliver vænnet til at danse med flere forskellige partnere. \n\nPris: 500\,- + billetgebyr
URL:https://komogdansdanmark.dk/kalender/randers-grundkursus-f2026/2026-04-20/
LOCATION:Østervangsskolen\, Dronningborg Boulevard 33\, Randers\, 8930\, Danmark
CATEGORIES:Undervisning
ATTACH;FMTTYPE=image/jpeg:https://komogdansdanmark.dk/wp-content/uploads/2021/10/KOD-DANSEPAR-05-LILLA-16-8-scaled.jpg
GEO:56.473695;10.0506
X-APPLE-STRUCTURED-LOCATION;VALUE=URI;X-ADDRESS=Østervangsskolen Dronningborg Boulevard 33 Randers 8930 Danmark;X-APPLE-RADIUS=500;X-TITLE=Dronningborg Boulevard 33:geo:10.0506,56.473695
END:VEVENT
BEGIN:VEVENT
DTSTART;TZID=Europe/Copenhagen:20260420T194500
DTEND;TZID=Europe/Copenhagen:20260420T213000
DTSTAMP:20260420T121804
CREATED:20241218T181007Z
LAST-MODIFIED:20260104T200706Z
UID:10035161-1776714300-1776720600@komogdansdanmark.dk
SUMMARY:Fortsætter undervisning
DESCRIPTION:På fortsætter bygger vi videre og udvider de teknikker\, som du lærte på begynderkurset. Du vil derfor opleve\, at der relativt hurtigt vil blive lagt mere på\, og din dans vil dermed udvikle sig. \nTilmeldingen dækker en sæson på 12 undervisningsgange i perioden: 26. januar til 4. maj.\nUndervisningen foregår på Ejerslykkeskolen\, med Søren/Birgitte der underviser de første 6 gange i Bygdeswing og Gert/Gitte de sidste 6 gange i Rock ‘n’ Roll. \nKl. 18:30 – 19:45 Begynder og videregående undervisning i hver deres lokale\nKl. 19:45 – 20:15 Fri dans for alle\nKl. 20.15 – 21.30 Fortsætter undervisning \nOBS! Nogle tåler ikke parfume. Det er derfor bedst\, hvis du lader parfumen stå urørt\, inden du tager til dans 🙂\n\nDa vi danser på lokale skoler følger vi skolernes ferie\, og i disse perioder vil der ikke være normal undervisning. \nTryk herunder for at komme videre mod tilmelding 🙂 \nOdense: Odense: Fortsætter – Forår 2026
URL:https://komogdansdanmark.dk/kalender/odense-fortsaetter-undervisning-3/2026-04-20/
LOCATION:Ejerslykkeskolen\, Rødegårdsvej 164\, Odense\, 5230\, Danmark
CATEGORIES:Undervisning
ATTACH;FMTTYPE=image/jpeg:https://komogdansdanmark.dk/wp-content/uploads/2022/03/Hjemmeside-begivenhed_Undervisning.jpg
GEO:55.386406;10.4171836
X-APPLE-STRUCTURED-LOCATION;VALUE=URI;X-ADDRESS=Ejerslykkeskolen Rødegårdsvej 164 Odense 5230 Danmark;X-APPLE-RADIUS=500;X-TITLE=Rødegårdsvej 164:geo:10.4171836,55.386406
END:VEVENT
BEGIN:VEVENT
DTSTART;TZID=Europe/Copenhagen:20260420T200000
DTEND;TZID=Europe/Copenhagen:20260420T210000
DTSTAMP:20260420T121804
CREATED:20251208T213844Z
LAST-MODIFIED:20260318T205109Z
UID:10035482-1776715200-1776718800@komogdansdanmark.dk
SUMMARY:Videregående
DESCRIPTION:Når man har deltaget 2 sæsoner på fortsætterholdet\, kan man deltage på videregående. \nVi danser mandage i Midtbyhallen\, Johannes Jørgensens Vej 10\, 5700 Svendborg kl 20:00 til kl 21:00. \nVi danser onsdage kl 18:30 til 19:30 første gang 11. Marts på Ørkildskolen afd Byen\, Skolegade 2\, 5700 Svendborg . Indgang ved Teatergade \nVideregående hold er til dig\, der gerne vil videre med din dans og din teknik. \nUnderviser Flemming Jorsal \nFERIE I UGE 7\, 14 og 15 – det er d. 9 Februar\, 30. marts og d. 6. April \nPris kr 650 pr person \nVideregående holdet\, der deltager man rigtigt mange gange og man bliver ved med at udvikle sin teknik. Teknikken danner grundlag for alle temadanser.
URL:https://komogdansdanmark.dk/kalender/svendborg-videregaaende-5/2026-04-20/
CATEGORIES:Undervisning
ATTACH;FMTTYPE=image/jpeg:https://komogdansdanmark.dk/wp-content/uploads/2021/10/KOD-DANSEPAR-24-BEIGE-16-9.jpg
END:VEVENT
BEGIN:VEVENT
DTSTART;TZID=Europe/Copenhagen:20260420T203000
DTEND;TZID=Europe/Copenhagen:20260420T214000
DTSTAMP:20260420T121804
CREATED:20251202T155726Z
LAST-MODIFIED:20251202T193417Z
UID:10034109-1776717000-1776721200@komogdansdanmark.dk
SUMMARY:Fortsætter F2026
DESCRIPTION:På fortsætterkurset går vi i dybden med danseformerne Danseswing (DS)\, Bygdeswing (BS)\, Rockeswing (RS) og Rock ´n roll (RR). Læs mere om danseformerne her. \nDer vil være mere fokus på at få de enkelte teknikker og ture til at fungere på dansegulvet. \nDet er vigtigt\, at du gennemfører alle 4 danseformer på Fortsætterholdet\, før du begynder at danse Videregående – da undervisningen på Videregående-holdene bygger på\, hvad du har lært på Fortsætterkurset. \nEn dansesæson er 12 undervisningsgange af 1 time og 10 minutter. \nSwing er en pardans\, men du er også velkommen alene. Vi skifter partner i løbet af undervisningen\, hvilket gør\, at vi godt kan have lidt flere af det ene køn.
URL:https://komogdansdanmark.dk/kalender/randers-fortsaetter-f2026/2026-04-20/
LOCATION:Østervangsskolen\, Dronningborg Boulevard 33\, Randers\, 8930\, Danmark
CATEGORIES:Undervisning
ATTACH;FMTTYPE=image/jpeg:https://komogdansdanmark.dk/wp-content/uploads/2021/10/KOD-DANSEPAR-05-LILLA-16-8-scaled.jpg
GEO:56.473695;10.0506
X-APPLE-STRUCTURED-LOCATION;VALUE=URI;X-ADDRESS=Østervangsskolen Dronningborg Boulevard 33 Randers 8930 Danmark;X-APPLE-RADIUS=500;X-TITLE=Dronningborg Boulevard 33:geo:10.0506,56.473695
END:VEVENT
BEGIN:VEVENT
DTSTART;TZID=Europe/Copenhagen:20260420T203000
DTEND;TZID=Europe/Copenhagen:20260420T214000
DTSTAMP:20260420T121804
CREATED:20251202T160851Z
LAST-MODIFIED:20251203T074602Z
UID:10034143-1776717000-1776721200@komogdansdanmark.dk
SUMMARY:Tema F2026
DESCRIPTION:Vi starter helt fra bunden med at danse Jump Boogie. \nUnderviser er Vagn.
URL:https://komogdansdanmark.dk/kalender/randers-tema-f2026/2026-04-20/
LOCATION:Østervangsskolen\, Dronningborg Boulevard 33\, Randers\, 8930\, Danmark
CATEGORIES:Undervisning
ATTACH;FMTTYPE=image/jpeg:https://komogdansdanmark.dk/wp-content/uploads/2021/10/KOD-DANSEPAR-05-LILLA-16-8-scaled.jpg
GEO:56.473695;10.0506
X-APPLE-STRUCTURED-LOCATION;VALUE=URI;X-ADDRESS=Østervangsskolen Dronningborg Boulevard 33 Randers 8930 Danmark;X-APPLE-RADIUS=500;X-TITLE=Dronningborg Boulevard 33:geo:10.0506,56.473695
END:VEVENT
BEGIN:VEVENT
DTSTART;TZID=Europe/Copenhagen:20260420T203000
DTEND;TZID=Europe/Copenhagen:20260420T214500
DTSTAMP:20260420T121804
CREATED:20251127T163003Z
LAST-MODIFIED:20251127T163231Z
UID:10033834-1776717000-1776721500@komogdansdanmark.dk
SUMMARY:Bugg
DESCRIPTION:Kl. 18.45 – 20.00 Undervisning \nKl. 20.00 – 20.30 Minidans – alle kursister er velkomne \nKl. 20.30 – 21.45 Undervisning
URL:https://komogdansdanmark.dk/kalender/viborg-bugg/2026-04-20/
LOCATION:Aktivitetshuset Afd. 10\, Rughavevej 2\, Viborg\, 8800\, Danmark
CATEGORIES:Undervisning
ATTACH;FMTTYPE=image/jpeg:https://komogdansdanmark.dk/wp-content/uploads/2021/10/KOD-DANSEPAR-05-LILLA-16-8-scaled.jpg
GEO:56.4612722;9.3940348
X-APPLE-STRUCTURED-LOCATION;VALUE=URI;X-ADDRESS=Aktivitetshuset Afd. 10 Rughavevej 2 Viborg 8800 Danmark;X-APPLE-RADIUS=500;X-TITLE=Rughavevej 2:geo:9.3940348,56.4612722
END:VEVENT
END:VCALENDAR