BEGIN:VCALENDAR
VERSION:2.0
PRODID:-//Kom og Dans Danmark - ECPv6.15.18//NONSGML v1.0//EN
CALSCALE:GREGORIAN
METHOD:PUBLISH
X-WR-CALNAME:Kom og Dans Danmark
X-ORIGINAL-URL:https://komogdansdanmark.dk
X-WR-CALDESC:Begivenheder for Kom og Dans Danmark
REFRESH-INTERVAL;VALUE=DURATION:PT1H
X-Robots-Tag:noindex
X-PUBLISHED-TTL:PT1H
BEGIN:VTIMEZONE
TZID:Europe/Copenhagen
BEGIN:DAYLIGHT
TZOFFSETFROM:+0100
TZOFFSETTO:+0200
TZNAME:CEST
DTSTART:20250330T010000
END:DAYLIGHT
BEGIN:STANDARD
TZOFFSETFROM:+0200
TZOFFSETTO:+0100
TZNAME:CET
DTSTART:20251026T010000
END:STANDARD
BEGIN:DAYLIGHT
TZOFFSETFROM:+0100
TZOFFSETTO:+0200
TZNAME:CEST
DTSTART:20260329T010000
END:DAYLIGHT
BEGIN:STANDARD
TZOFFSETFROM:+0200
TZOFFSETTO:+0100
TZNAME:CET
DTSTART:20261025T010000
END:STANDARD
BEGIN:DAYLIGHT
TZOFFSETFROM:+0100
TZOFFSETTO:+0200
TZNAME:CEST
DTSTART:20270328T010000
END:DAYLIGHT
BEGIN:STANDARD
TZOFFSETFROM:+0200
TZOFFSETTO:+0100
TZNAME:CET
DTSTART:20271031T010000
END:STANDARD
END:VTIMEZONE
BEGIN:VEVENT
DTSTART;TZID=Europe/Copenhagen:20260421T183000
DTEND;TZID=Europe/Copenhagen:20260421T212500
DTSTAMP:20260421T021832
CREATED:20251127T191155Z
LAST-MODIFIED:20251127T191156Z
UID:10033900-1776796200-1776806700@komogdansdanmark.dk
SUMMARY:Undervisning
DESCRIPTION:Grundkursus (Omnihuset): kl. 18.30-19.50\nFortsætter (Omnihuset): kl. 20.05-21.25\nVideregående (Omnihuset): kl. 18.30-19.50\nTema (Skolen): kl. 18.30-19.50\nVeteran (Omnihuset: kl. 20.05-21.25
URL:https://komogdansdanmark.dk/kalender/aalborg-undervisning-2/2026-04-21/
CATEGORIES:Undervisning
ATTACH;FMTTYPE=image/jpeg:https://komogdansdanmark.dk/wp-content/uploads/2021/10/KOD-DANSEPAR-05-LILLA-16-8-scaled.jpg
END:VEVENT
BEGIN:VEVENT
DTSTART;TZID=Europe/Copenhagen:20260421T183000
DTEND;TZID=Europe/Copenhagen:20260421T212500
DTSTAMP:20260421T021832
CREATED:20251204T101447Z
LAST-MODIFIED:20251204T101448Z
UID:10034196-1776796200-1776806700@komogdansdanmark.dk
SUMMARY:Undervisning
DESCRIPTION:
URL:https://komogdansdanmark.dk/kalender/aalborg_ungdom-undervisning-2/2026-04-21/
LOCATION:Filstedvejens Skole\, Filstedvej 16\, Aalborg\, 9000\, Danmark
CATEGORIES:Undervisning
ATTACH;FMTTYPE=image/jpeg:https://komogdansdanmark.dk/wp-content/uploads/2021/10/KOD-DANSEPAR-05-LILLA-16-8-scaled.jpg
GEO:57.0356418;9.9590017
X-APPLE-STRUCTURED-LOCATION;VALUE=URI;X-ADDRESS=Filstedvejens Skole Filstedvej 16 Aalborg 9000 Danmark;X-APPLE-RADIUS=500;X-TITLE=Filstedvej 16:geo:9.9590017,57.0356418
END:VEVENT
BEGIN:VEVENT
DTSTART;TZID=Europe/Copenhagen:20260421T184500
DTEND;TZID=Europe/Copenhagen:20260421T202000
DTSTAMP:20260421T021832
CREATED:20251126T132219Z
LAST-MODIFIED:20251126T133341Z
UID:10033686-1776797100-1776802800@komogdansdanmark.dk
SUMMARY:Begynderhold
DESCRIPTION:De første 6 gange underviser Laila Hansen (3 gg. i Bygdeswing og 3 gg. i Rockeswing). \nDe sidste 6 gange underviser Helle Thams (3 gg. i Danseswing og 3 gg. i Rock’n Roll). \nUndervisning fra 18:45 til 19:55\, hvorefter der er fællesdans fra 19:55 til 20:20.
URL:https://komogdansdanmark.dk/kalender/kolding-begynderhold-4/2026-04-21/
LOCATION:Aalykkeskolen\, Ålykkegade 2\, Kolding\, 6000\, Danmark
CATEGORIES:Undervisning
ATTACH;FMTTYPE=image/jpeg:https://komogdansdanmark.dk/wp-content/uploads/2021/10/KOD-DANSEPAR-05-LILLA-16-8-scaled.jpg
GEO:55.4917133;9.4644558
X-APPLE-STRUCTURED-LOCATION;VALUE=URI;X-ADDRESS=Aalykkeskolen Ålykkegade 2 Kolding 6000 Danmark;X-APPLE-RADIUS=500;X-TITLE=Ålykkegade 2:geo:9.4644558,55.4917133
END:VEVENT
BEGIN:VEVENT
DTSTART;TZID=Europe/Copenhagen:20260421T184500
DTEND;TZID=Europe/Copenhagen:20260421T202000
DTSTAMP:20260421T021832
CREATED:20251126T135655Z
LAST-MODIFIED:20251126T135852Z
UID:10033719-1776797100-1776802800@komogdansdanmark.dk
SUMMARY:Temahold
DESCRIPTION:Undervisning de første 6 gg. i Blues Boogie v. Djan og Anita. \nUndervisning de sidste 6 gg. i Rockeswing v. Palle og Lotte. \nDeltagerkrav for at deltage på Temahold er at have gennemført 4 sæsoner (2 år) på videregående hold. \nUndervisning fra 18:45 til 19:55. Fællesdans fra 19:55 til 20:20.
URL:https://komogdansdanmark.dk/kalender/kolding-temahold-4/2026-04-21/
LOCATION:Aalykkeskolen\, Ålykkegade 2\, Kolding\, 6000\, Danmark
CATEGORIES:Undervisning
ATTACH;FMTTYPE=image/jpeg:https://komogdansdanmark.dk/wp-content/uploads/2021/10/KOD-DANSEPAR-05-LILLA-16-8-scaled.jpg
GEO:55.4917133;9.4644558
X-APPLE-STRUCTURED-LOCATION;VALUE=URI;X-ADDRESS=Aalykkeskolen Ålykkegade 2 Kolding 6000 Danmark;X-APPLE-RADIUS=500;X-TITLE=Ålykkegade 2:geo:9.4644558,55.4917133
END:VEVENT
BEGIN:VEVENT
DTSTART;TZID=Europe/Copenhagen:20260421T184500
DTEND;TZID=Europe/Copenhagen:20260421T205000
DTSTAMP:20260421T021832
CREATED:20251216T165927Z
LAST-MODIFIED:20251216T185414Z
UID:10034586-1776797100-1776804600@komogdansdanmark.dk
SUMMARY:Undervisning forår 2026
DESCRIPTION:Program: \n18.45 – 19.00: Fælles opvarmningsdans for alle \n19.00 – 19.45: Undervisning \n19.45 – 20.00: Pause med info og hygge \n20.00 – 20.30: Undervisning \n20.30 – 20.50: Minidans
URL:https://komogdansdanmark.dk/kalender/varde-undervisning-foraar-2026/2026-04-21/
LOCATION:Varde Gymnasium\, Frisvadvej 72\, Varde\, 6800\, Danmark
CATEGORIES:Undervisning
ATTACH;FMTTYPE=image/jpeg:https://komogdansdanmark.dk/wp-content/uploads/2025/11/Hjemmeside-begivenhed_UNDERVISNING.jpg
GEO:55.6337807;8.4959114
X-APPLE-STRUCTURED-LOCATION;VALUE=URI;X-ADDRESS=Varde Gymnasium Frisvadvej 72 Varde 6800 Danmark;X-APPLE-RADIUS=500;X-TITLE=Frisvadvej 72:geo:8.4959114,55.6337807
END:VEVENT
BEGIN:VEVENT
DTSTART;TZID=Europe/Copenhagen:20260421T190000
DTEND;TZID=Europe/Copenhagen:20260421T213000
DTSTAMP:20260421T021832
CREATED:20260131T114548Z
LAST-MODIFIED:20260307T151747Z
UID:10035394-1776798000-1776807000@komogdansdanmark.dk
SUMMARY:GENERALFORSAMLING KOD AARHUS
DESCRIPTION:GENERALFORSAMLING I KOD AARHUS FLYTTET PGA FOLKETINGSVALG \nDer afholdes Generalforsamling i Kom og Dans Aarhus tirsdag d. 21.4 2026 kl. 19.00 på Katrinebjergskolen. \nAlle der har betalt medlemskab for 2026 til KOD Aarhus er yderst velkomne. \nForeningen er vært med snacks og sodavand. \nDagsorden ifølge vedtægterne: \n\nValg af dirigent\nValg af referent\nBestyrelsens beretning\nFremlæggelse af regnskabet\nFastlæggelse af kontingent\nBehandling af indkomne forslag\, (modtages seneste 4 uger før generalforsamling)\nValg til bestyrelsen\nValg af 2 bestyrelsessuppleanter\nValg af en revisor (Geert Jensen – genopstiller) og en revisor suppleant\nEventuelt\n\nPå valg er: \nMichelle Birk (medlem) – genopstiller ikke \nAnders Juhl – (medlem)  – genopstiller \nCharlotte Storm – (medlem) – genopstiller \nJens Kjær – (suppleant) – genopstiller \nMedbring danseskoene\, da vi efter veloverstået generalforsamling fortsætter med minidans til kl. 21.30 \nDagsorden udsendes jf. foreningsvedtægt
URL:https://komogdansdanmark.dk/kalender/aarhus-generalforsamling-kod-aarhus/
LOCATION:Katrinebjergskolen\, Katrinebjergvej 60\, Aarhus\, 8200\, Danmark
CATEGORIES:Generalforsamling
ATTACH;FMTTYPE=image/jpeg:https://komogdansdanmark.dk/wp-content/uploads/2026/01/generalforsamling-1.jpg
GEO:56.1741724;10.1963085
X-APPLE-STRUCTURED-LOCATION;VALUE=URI;X-ADDRESS=Katrinebjergskolen Katrinebjergvej 60 Aarhus 8200 Danmark;X-APPLE-RADIUS=500;X-TITLE=Katrinebjergvej 60:geo:10.1963085,56.1741724
END:VEVENT
BEGIN:VEVENT
DTSTART;TZID=Europe/Copenhagen:20260421T195500
DTEND;TZID=Europe/Copenhagen:20260421T213000
DTSTAMP:20260421T021832
CREATED:20251126T134038Z
LAST-MODIFIED:20251126T134303Z
UID:10033697-1776801300-1776807000@komogdansdanmark.dk
SUMMARY:Fortsætterhold
DESCRIPTION:De første 6 gg. undervisning i Rockeswing v. Laila Hansen. \nDe sidste 6 gg. undervisning i Bygdeswing v. Niels Rasmussen. \nFællesdans fra 19:55 til 20:20. Undervisning fra 20:20 til 21:30.
URL:https://komogdansdanmark.dk/kalender/kolding-fortsaetterhold-4/2026-04-21/
LOCATION:Aalykkeskolen\, Ålykkegade 2\, Kolding\, 6000\, Danmark
CATEGORIES:Undervisning
ATTACH;FMTTYPE=image/jpeg:https://komogdansdanmark.dk/wp-content/uploads/2021/10/KOD-DANSEPAR-05-LILLA-16-8-scaled.jpg
GEO:55.4917133;9.4644558
X-APPLE-STRUCTURED-LOCATION;VALUE=URI;X-ADDRESS=Aalykkeskolen Ålykkegade 2 Kolding 6000 Danmark;X-APPLE-RADIUS=500;X-TITLE=Ålykkegade 2:geo:9.4644558,55.4917133
END:VEVENT
BEGIN:VEVENT
DTSTART;TZID=Europe/Copenhagen:20260421T195500
DTEND;TZID=Europe/Copenhagen:20260421T213000
DTSTAMP:20260421T021832
CREATED:20251126T134923Z
LAST-MODIFIED:20251126T135123Z
UID:10033708-1776801300-1776807000@komogdansdanmark.dk
SUMMARY:Videregåendehold
DESCRIPTION:Undervisning de første 6 gg. i Rockeswing v. Djan og Anita. \nUndervisning de sidste 6 gg. i Bygdeswing v. Palle og Lotte. \nFællesdans fra 19:55 til 20:20. Undervisning fra 20:20 til 21:30. \nDeltagerkrav er at have gennemført 2 sæsoner (1 år) på fortsætterhold.
URL:https://komogdansdanmark.dk/kalender/kolding-videregaaendehold-4/2026-04-21/
LOCATION:Aalykkeskolen\, Ålykkegade 2\, Kolding\, 6000\, Danmark
CATEGORIES:Undervisning
ATTACH;FMTTYPE=image/jpeg:https://komogdansdanmark.dk/wp-content/uploads/2021/10/KOD-DANSEPAR-05-LILLA-16-8-scaled.jpg
GEO:55.4917133;9.4644558
X-APPLE-STRUCTURED-LOCATION;VALUE=URI;X-ADDRESS=Aalykkeskolen Ålykkegade 2 Kolding 6000 Danmark;X-APPLE-RADIUS=500;X-TITLE=Ålykkegade 2:geo:9.4644558,55.4917133
END:VEVENT
END:VCALENDAR