BEGIN:VCALENDAR
VERSION:2.0
PRODID:-//Kom og Dans Danmark - ECPv6.15.18//NONSGML v1.0//EN
CALSCALE:GREGORIAN
METHOD:PUBLISH
X-WR-CALNAME:Kom og Dans Danmark
X-ORIGINAL-URL:https://komogdansdanmark.dk
X-WR-CALDESC:Begivenheder for Kom og Dans Danmark
REFRESH-INTERVAL;VALUE=DURATION:PT1H
X-Robots-Tag:noindex
X-PUBLISHED-TTL:PT1H
BEGIN:VTIMEZONE
TZID:Europe/Copenhagen
BEGIN:DAYLIGHT
TZOFFSETFROM:+0100
TZOFFSETTO:+0200
TZNAME:CEST
DTSTART:20250330T010000
END:DAYLIGHT
BEGIN:STANDARD
TZOFFSETFROM:+0200
TZOFFSETTO:+0100
TZNAME:CET
DTSTART:20251026T010000
END:STANDARD
BEGIN:DAYLIGHT
TZOFFSETFROM:+0100
TZOFFSETTO:+0200
TZNAME:CEST
DTSTART:20260329T010000
END:DAYLIGHT
BEGIN:STANDARD
TZOFFSETFROM:+0200
TZOFFSETTO:+0100
TZNAME:CET
DTSTART:20261025T010000
END:STANDARD
BEGIN:DAYLIGHT
TZOFFSETFROM:+0100
TZOFFSETTO:+0200
TZNAME:CEST
DTSTART:20270328T010000
END:DAYLIGHT
BEGIN:STANDARD
TZOFFSETFROM:+0200
TZOFFSETTO:+0100
TZNAME:CET
DTSTART:20271031T010000
END:STANDARD
END:VTIMEZONE
BEGIN:VEVENT
DTSTART;TZID=Europe/Copenhagen:20260424T190000
DTEND;TZID=Europe/Copenhagen:20260424T220000
DTSTAMP:20260424T014628
CREATED:20260416T211848Z
LAST-MODIFIED:20260416T211849Z
UID:10035575-1777057200-1777068000@komogdansdanmark.dk
SUMMARY:Fredagsswing
DESCRIPTION:Fredags Swing\nhttps://fb.me/e/5Nr2DIfK0 \nALLE ER VELKOMNE\, så tag gerne dine danse venner med \nHar du også bare lyst til at komme ud at danse?\n– Så kom og vær med til en skøn danseaften 24. april 2026 fra kl. 19.00-22.00 i Idrætscenter Vest i Holstebro\nAlle er som velkommen også dig\, der ikke har danset i foreneingen før – Det er en fin mulighed\, for at opleve dansen og foreningen… så en fin mulighed for\, at invitere en ven\, veninde\, nabo\, partner eller…\nEntre 50 kr. som evt. kan forudbetales eller i indgangen på Mobilepay 51560Du kan også forudbetale til vores konto i Borbjerg Sparekasse 9634-0000151955 (husk at tage et billede af kvitteringen)\nEr du ikke medlem af Kom og Dans\, skal der betales 50 kr. for passivt medlemskab (gælder for forårs sæson) + 50 kr. for danseaften.Altså ialt 100 kr første gang du deltager i fredagsswing\nVi serverer kaffe og te – og lidt godt til ganen og blodsukkeret Vel mødt – vi glæder os til en hyggelig aften i Holstebro
URL:https://komogdansdanmark.dk/kalender/holstebro-fredagsswing-4/
LOCATION:Idrætscenter Vest\, Mozartsvej 5\, Holstebro\, 7500\, Danmark
CATEGORIES:Danseaften
ATTACH;FMTTYPE=image/jpeg:https://komogdansdanmark.dk/wp-content/uploads/2021/10/KOD-DANSEPAR-05-LILLA-16-8-scaled.jpg
GEO:56.3897176;8.5779987
X-APPLE-STRUCTURED-LOCATION;VALUE=URI;X-ADDRESS=Idrætscenter Vest Mozartsvej 5 Holstebro 7500 Danmark;X-APPLE-RADIUS=500;X-TITLE=Mozartsvej 5:geo:8.5779987,56.3897176
END:VEVENT
END:VCALENDAR