BEGIN:VCALENDAR
VERSION:2.0
PRODID:-//Kom og Dans Danmark - ECPv6.15.20//NONSGML v1.0//EN
CALSCALE:GREGORIAN
METHOD:PUBLISH
X-WR-CALNAME:Kom og Dans Danmark
X-ORIGINAL-URL:https://komogdansdanmark.dk
X-WR-CALDESC:Begivenheder for Kom og Dans Danmark
REFRESH-INTERVAL;VALUE=DURATION:PT1H
X-Robots-Tag:noindex
X-PUBLISHED-TTL:PT1H
BEGIN:VTIMEZONE
TZID:Europe/Copenhagen
BEGIN:DAYLIGHT
TZOFFSETFROM:+0100
TZOFFSETTO:+0200
TZNAME:CEST
DTSTART:20250330T010000
END:DAYLIGHT
BEGIN:STANDARD
TZOFFSETFROM:+0200
TZOFFSETTO:+0100
TZNAME:CET
DTSTART:20251026T010000
END:STANDARD
BEGIN:DAYLIGHT
TZOFFSETFROM:+0100
TZOFFSETTO:+0200
TZNAME:CEST
DTSTART:20260329T010000
END:DAYLIGHT
BEGIN:STANDARD
TZOFFSETFROM:+0200
TZOFFSETTO:+0100
TZNAME:CET
DTSTART:20261025T010000
END:STANDARD
BEGIN:DAYLIGHT
TZOFFSETFROM:+0100
TZOFFSETTO:+0200
TZNAME:CEST
DTSTART:20270328T010000
END:DAYLIGHT
BEGIN:STANDARD
TZOFFSETFROM:+0200
TZOFFSETTO:+0100
TZNAME:CET
DTSTART:20271031T010000
END:STANDARD
END:VTIMEZONE
BEGIN:VEVENT
DTSTART;TZID=Europe/Copenhagen:20260425T183000
DTEND;TZID=Europe/Copenhagen:20260425T223000
DTSTAMP:20260425T015418
CREATED:20260116T202108Z
LAST-MODIFIED:20260415T095115Z
UID:10033574-1777141800-1777156200@komogdansdanmark.dk
SUMMARY:Swinging Spring
DESCRIPTION:Danseaften for alle\nKl.18.30-19.30 forkursus i sal. 1 + 2\nKl.19.30-22.30 Dans incl. pause \nSal 1. \nFor: Videregående/TEMA\nUndervisere: Benny Emil Lauridsen (Emil) \nSal 2. \nFor: Begyndere+Fortsættere\nUnderviser: Marie Louise Steffansen \n100\,- kr. inklusive forkursus\, entre i døren\, kontanter eller på mobilepay 95198 \n HUSK service \nNYT vedr. Parkering: Lunden og Kalgårdsvej tidsbegrænset gratis parkering på 3 timer (Hverdage 09.00-22.00\, Lørdag 09:00-15.00) \n“Det sker for at skabe en større udskiftning på p-pladserne. Ved Vestergadehallen og Lunden vil der i blive indført 3 timers tidsbegrænset parkering på hverdage kl. 9-22 og på lørdage kl. 9-15. Da brugerne af Lunden oplever\, at det er svært at finde ledige pladser ved aftenarrangementer\, gælder tidsbegrænsningen til kl. 22.På Kalgårdsvej er der en række p-båse\, hvor der indføres 3 timers tidsbegrænset parkering på hverdage kl. 9-18 og på lørdage kl. 9-15. På den øvrige del af Kalgårdsvej vil der være fri parkering.Der indføres 3 timers tidsbegrænset parkering på gratis p-pladser (Plan- og Vejudvalget\, 02.12.2025\, punkt 17)”\nHenvisning: https://silkeborg.dk/demokrati/lokalraad-og-naerdemokrati/lokalraad/silkeborg-city-lokalraad”
URL:https://komogdansdanmark.dk/kalender/silkeborg-swinging-spring/
LOCATION:Lunden\, Vestergade 74\, Silkeborg\, 8600\, Danmark
CATEGORIES:Danseaften
ATTACH;FMTTYPE=image/jpeg:https://komogdansdanmark.dk/wp-content/uploads/2026/04/438299880_10225896689110133_751570185284146290_n-1.jpg
GEO:56.166131;9.53441
X-APPLE-STRUCTURED-LOCATION;VALUE=URI;X-ADDRESS=Lunden Vestergade 74 Silkeborg 8600 Danmark;X-APPLE-RADIUS=500;X-TITLE=Vestergade 74:geo:9.53441,56.166131
END:VEVENT
END:VCALENDAR